BEGIN:VCALENDAR
VERSION:2.0
PRODID:-//Ringette BC - ECPv6.15.20//NONSGML v1.0//EN
CALSCALE:GREGORIAN
METHOD:PUBLISH
X-ORIGINAL-URL:https://ringettebc.ca
X-WR-CALDESC:Events for Ringette BC
REFRESH-INTERVAL;VALUE=DURATION:PT1H
X-Robots-Tag:noindex
X-PUBLISHED-TTL:PT1H
BEGIN:VTIMEZONE
TZID:America/Los_Angeles
BEGIN:DAYLIGHT
TZOFFSETFROM:-0800
TZOFFSETTO:-0700
TZNAME:PDT
DTSTART:20240310T100000
END:DAYLIGHT
BEGIN:STANDARD
TZOFFSETFROM:-0700
TZOFFSETTO:-0800
TZNAME:PST
DTSTART:20241103T090000
END:STANDARD
BEGIN:DAYLIGHT
TZOFFSETFROM:-0800
TZOFFSETTO:-0700
TZNAME:PDT
DTSTART:20250309T100000
END:DAYLIGHT
BEGIN:STANDARD
TZOFFSETFROM:-0700
TZOFFSETTO:-0800
TZNAME:PST
DTSTART:20251102T090000
END:STANDARD
BEGIN:DAYLIGHT
TZOFFSETFROM:-0800
TZOFFSETTO:-0700
TZNAME:PDT
DTSTART:20260308T100000
END:DAYLIGHT
BEGIN:STANDARD
TZOFFSETFROM:-0700
TZOFFSETTO:-0800
TZNAME:PST
DTSTART:20261101T090000
END:STANDARD
BEGIN:DAYLIGHT
TZOFFSETFROM:-0800
TZOFFSETTO:-0700
TZNAME:PDT
DTSTART:20270314T100000
END:DAYLIGHT
BEGIN:STANDARD
TZOFFSETFROM:-0700
TZOFFSETTO:-0800
TZNAME:PST
DTSTART:20271107T090000
END:STANDARD
END:VTIMEZONE
BEGIN:VEVENT
DTSTART;VALUE=DATE:20260109
DTEND;VALUE=DATE:20260112
DTSTAMP:20260424T132238
CREATED:20250806T164854Z
LAST-MODIFIED:20250806T164908Z
UID:15898-1767916800-1768175999@ringettebc.ca
SUMMARY:West Coast Classic Tournament
DESCRIPTION:
URL:https://ringettebc.ca/event/west-coast-classic-tournament/
LOCATION:Richmond Ice Centre\, 14140 Triangle Rd\, Richmond\, BC\, V6W 1B1\, Canada
CATEGORIES:RBC Events,RBC Important Dates,RBC Sanctioned Tournaments
END:VEVENT
BEGIN:VEVENT
DTSTART;VALUE=DATE:20251205
DTEND;VALUE=DATE:20251208
DTSTAMP:20260424T132238
CREATED:20250805T221627Z
LAST-MODIFIED:20250805T221751Z
UID:15841-1764892800-1765151999@ringettebc.ca
SUMMARY:Spirit of Winter Tournament
DESCRIPTION:
URL:https://ringettebc.ca/event/spirit-of-winter-tournament/
LOCATION:Langley Sportsplex\, 100-20165 91A Ave\, Langley\, BC\, V1M 3A2\, Canada
CATEGORIES:RBC Events,RBC Important Dates,RBC Sanctioned Tournaments
END:VEVENT
BEGIN:VEVENT
DTSTART;VALUE=DATE:20251115
DTEND;VALUE=DATE:20251116
DTSTAMP:20260424T132238
CREATED:20250806T172620Z
LAST-MODIFIED:20250806T172630Z
UID:15914-1763164800-1763251199@ringettebc.ca
SUMMARY:West Coast Classic Tournament Registration Deadline
DESCRIPTION:January 9-11\, 2026\nHosted by Richmond Ringette Association\nVenue – Richmond Ice Centre\, Minoru Arenas\nDivisions – FUN1\, FUN2\, U10\, U12\, U14-U19 Club All-Gender\, U14-U19 Club Female\, U14-U19 Zone Female\, 18+A\, 18+B\, Masters\nContact – wcc@richmondringette.com\nREGISTRATION INFORMATION HERE
URL:https://ringettebc.ca/event/west-coast-classic-tournament-registration-deadline/
CATEGORIES:RBC Events,RBC Important Dates,RBC Sanctioned Tournaments
END:VEVENT
BEGIN:VEVENT
DTSTART;VALUE=DATE:20251024
DTEND;VALUE=DATE:20251027
DTSTAMP:20260424T132238
CREATED:20250805T230635Z
LAST-MODIFIED:20250805T230652Z
UID:15868-1761264000-1761523199@ringettebc.ca
SUMMARY:Okanagan Autumn Blast Tournament
DESCRIPTION:
URL:https://ringettebc.ca/event/okanagan-autumn-blast-tournament/
LOCATION:Kal Tire Place\, 3445 - 43rd Avenue\, Vernon\, BC\, V1T 8P5\, Canada
CATEGORIES:RBC Events,RBC Important Dates,RBC Sanctioned Tournaments
END:VEVENT
BEGIN:VEVENT
DTSTART;VALUE=DATE:20251024
DTEND;VALUE=DATE:20251025
DTSTAMP:20260424T132238
CREATED:20250805T221953Z
LAST-MODIFIED:20250805T222215Z
UID:15855-1761264000-1761350399@ringettebc.ca
SUMMARY:Spirit of Winter Tournament Registration Deadline
DESCRIPTION:December 5 – 7\, 2025\nHosted by Fraser Valley Ringette Association\nVenue – Sportsplex – Langley\, George Preston\, Aldergrove Community Arena\nDivisions – FUN1\, FUN2\, U10\, U12\, U14-U19 All-Gender Club\, U14-U19 Female Club\, U14-U19 Zone Female\, 18+A & B\, Masters\nContact – tournaments@fvriingette.com\nREGISTRATION INFORMATION HERE
URL:https://ringettebc.ca/event/spirit-of-winter-tournament-registration-deadline/
CATEGORIES:RBC Events,RBC Important Dates,RBC Sanctioned Tournaments
END:VEVENT
BEGIN:VEVENT
DTSTART;VALUE=DATE:20251001
DTEND;VALUE=DATE:20251002
DTSTAMP:20260424T132238
CREATED:20250806T172130Z
LAST-MODIFIED:20250806T172130Z
UID:15905-1759276800-1759363199@ringettebc.ca
SUMMARY:West Coast Classic Tournament Registration Opens
DESCRIPTION:January 9-11\, 2026\nHosted by Richmond Ringette Association\nVenue – Richmond Ice Centre\, Minoru Arenas\nDivisions – FUN1\, FUN2\, U10\, U12\, U14-U19 Club All-Gender\, U14-U19 Club Female\, U14-U19 Zone Female\, 18+A\, 18+B\, Masters\nContact – wcc@richmondringette.com\nREGISTRATION INFORMATION HERE
URL:https://ringettebc.ca/event/west-coast-classic-tournament-registration-opens/
CATEGORIES:RBC Events,RBC Important Dates,RBC Sanctioned Tournaments
END:VEVENT
BEGIN:VEVENT
DTSTART;VALUE=DATE:20250830
DTEND;VALUE=DATE:20250901
DTSTAMP:20260424T132238
CREATED:20250805T235239Z
LAST-MODIFIED:20250805T235311Z
UID:15887-1756512000-1756684799@ringettebc.ca
SUMMARY:VRA Labour Day Lollapalooza
DESCRIPTION:Join VRA in celebrating 40 years of ringette in Vancouver with a fun U10/U12 tournament! Following a week of development for coaches\, officials\, and players\, this event offers at least 4 games. Teams of players born between 2014 and 2018 will be mixed to encourage meeting new friends and expanding our community. Goalies who play multiple games will receive a special patch\, and equipment is provided if needed. Players registered for the 2024 season can participate without insurance fees\, while those not registered for 2024/25 will need to pay an additional insurance fee. Come out to connect\, compete\, and celebrate our shared love of ringette! \nREGISTER HERE \nFees: \n\n\n\nPlayer Fee: $50 (includes at least 4 games)\nAdditional Insurance Fee: applies if not registered for the 2024/25 season\nEquipment: Goalies provided with gear if needed
URL:https://ringettebc.ca/event/vra-labour-day-lollapalooza/
CATEGORIES:RBC Events,RBC Sanctioned Tournaments
END:VEVENT
BEGIN:VEVENT
DTSTART;VALUE=DATE:20250815
DTEND;VALUE=DATE:20250818
DTSTAMP:20260424T132238
CREATED:20250613T203051Z
LAST-MODIFIED:20250729T181117Z
UID:13608-1755216000-1755475199@ringettebc.ca
SUMMARY:Robin Pugsley 3 on 3 Summer Classic Tournament
DESCRIPTION:Hosted by Delta Ringette Association\nLocation: Excellent Ice (15000 – 54A Avenue\, Surrey\, BC)\nDivisions: \n\nClub Divisions (All Gender):  FUN2\, U10\, U12\, U14\, U16\, U19\nClub Division (Female Only): U14\, U16\, U19\nZONE (Female Only): U14\, U16\, U19\nOpen (All Gender):18+ A\, 18+ B\n\n\nContact – president@deltaringette.ca
URL:https://ringettebc.ca/event/9863-2/
LOCATION:Excellent Ice\, 15000 – 54A Avenue\, Surrey\, BC\, V3S 5X7\, Canada
CATEGORIES:RBC Sanctioned Tournaments
END:VEVENT
BEGIN:VEVENT
DTSTART;VALUE=DATE:20250731
DTEND;VALUE=DATE:20250801
DTSTAMP:20260424T132238
CREATED:20250613T203250Z
LAST-MODIFIED:20250729T181226Z
UID:13611-1753920000-1754006399@ringettebc.ca
SUMMARY:2025 Robin Pugsley Summer Classic - Registration Deadline
DESCRIPTION:2025 Tournament dates: Friday Evening Aug 15th\, Saturday\, Aug 16th\, & Sunday\, Aug 17th\nLocation: Excellent Ice (15000 – 54A Avenue\, Surrey\, BC) \nDivisions: \n\nClub Divisions (All Gender):  FUN2\, U10\, U12\, U14\, U16\, U19\nClub Division (Female Only): U14\, U16\, U19\nZONE (Female Only): U14\, U16\, U19\nOpen (All Gender):18+ A\, 18+ B\n\nCost: $150 per athlete\nGames: Minimum 4 games per team\nTeam Composition: Maximum of 10 players per roster. \nClick Here to Register: Registration – 2025 Robin Pugsley Summer Classic
URL:https://ringettebc.ca/event/2025-robin-pugsley-summer-classic-registration-deadline/
LOCATION:Excellent Ice\, 15000 – 54A Avenue\, Surrey\, BC\, V3S 5X7\, Canada
CATEGORIES:RBC Sanctioned Tournaments
END:VEVENT
BEGIN:VEVENT
DTSTART;VALUE=DATE:20250721
DTEND;VALUE=DATE:20250722
DTSTAMP:20260424T132238
CREATED:20250805T222917Z
LAST-MODIFIED:20250805T222917Z
UID:15865-1753056000-1753142399@ringettebc.ca
SUMMARY:Spirit of Winter Tournament Registration Opens
DESCRIPTION:December 5 – 7\, 2025\nHosted by Fraser Valley Ringette Association\nVenue – Sportsplex – Langley\, George Preston\, Aldergrove Community Arena\nDivisions – FUN1\, FUN2\, U10\, U12\, U14-U19 All-Gender Club\, U14-U19 Female Club\, U14-U19 Zone Female\, 18+A & B\, Masters\nContact – tournaments@fvriingette.com\nREGISTRATION INFORMATION HERE
URL:https://ringettebc.ca/event/spirit-of-winter-tournament-registration-opens/
CATEGORIES:RBC Events,RBC Important Dates,RBC Sanctioned Tournaments
END:VEVENT
END:VCALENDAR